BEGIN:VCALENDAR
VERSION:2.0
PRODID:gruene-thueringen.de
METHOD:PUBLISH
BEGIN:VTIMEZONE
TZID:Europe/Berlin
X-LIC-LOCATION:Europe/Berlin
BEGIN:DAYLIGHT
TZOFFSETFROM:+0100
TZOFFSETTO:+0200
TZNAME:CEST
DTSTART:19700329T020000
RRULE:FREQ=YEARLY;INTERVAL=1;BYDAY=-1SU;BYMONTH=3
END:DAYLIGHT
BEGIN:STANDARD
TZOFFSETFROM:+0200
TZOFFSETTO:+0100
TZNAME:CET
DTSTART:19701025T030000
RRULE:FREQ=YEARLY;INTERVAL=1;BYDAY=-1SU;BYMONTH=10
END:STANDARD
END:VTIMEZONE
BEGIN:VEVENT
UID:c1b69c699c01f42c6fd01a4408db34cd@gruene-thueringen.de
URL;VALUE=URI:https://gruene-thueringen.de/termine/ak-mobilitat-am-19jan2
 3/
LOCATION:
SUMMARY:LAG Mobilität & Verkehr | digital
DESCRIPTION;ALTREP="data:text/html,%0A%3Cp%3EDer%20%3Cstrong%3ELAG%20Mobi
 lit%C3%A4t%20und%20Verkehr%20%3C%2Fstrong%3Evon%C2%A0%3Cstrong%3EB%C3%9CN
 DNIS%2090%2FDIE%20GR%C3%9CNEN%20Landesverband%20Th%C3%BCringen%3C%2Fstron
 g%3E%C2%A0trifft%20sich%20am%C2%A0%3Cstrong%3EDonnerstag%2C%20den%2020.%2
 0April%202023%C2%A0ab%C2%A020%20Uhr%3C%2Fstrong%3E.%3C%2Fp%3E%0A%0A%0A%0A
 %3Cp%3EWenn%20du%20mit%20dabei%20sein%20m%C3%B6chtest%2C%20dann%20melde%2
 0dich%20bei%20der%26nbsp%3B%3Ca%20rel%3D%22noreferrer%20noopener%22%20hre
 f%3D%22https%3A%2F%2Fgruene-thueringen.de%2Flandesarbeitsgemeinschaften%2
 F%22%20target%3D%22_blank%22%3ELAG%20Mobilit%C3%A4t%20und%20Verkehr%3C%2F
 a%3E.%3C%2Fp%3E%0A":Der LAG Mobilität und Verkehr von BÜNDNIS 90/DIE G
 RÜNEN Landesverband Thüringen trifft sich am Donnerstag\, den 20. Apr
 il 2023 ab 20 Uhr.\n\nWenn du mit dabei sein möchtest\, dann melde dic
 h bei der LAG Mobilität und Verkehr.
CLASS:PUBLIC
DTSTART;TZID=Europe/Berlin:20230420T200000
DTEND;TZID=Europe/Berlin:20230420T213000
DTSTAMP:20260421T100548
END:VEVENT
END:VCALENDAR