BEGIN:VCALENDAR
VERSION:2.0
PRODID:gruene-thueringen.de
METHOD:PUBLISH
BEGIN:VTIMEZONE
TZID:Europe/Berlin
X-LIC-LOCATION:Europe/Berlin
BEGIN:DAYLIGHT
TZOFFSETFROM:+0100
TZOFFSETTO:+0200
TZNAME:CEST
DTSTART:19700329T020000
RRULE:FREQ=YEARLY;INTERVAL=1;BYDAY=-1SU;BYMONTH=3
END:DAYLIGHT
BEGIN:STANDARD
TZOFFSETFROM:+0200
TZOFFSETTO:+0100
TZNAME:CET
DTSTART:19701025T030000
RRULE:FREQ=YEARLY;INTERVAL=1;BYDAY=-1SU;BYMONTH=10
END:STANDARD
END:VTIMEZONE
BEGIN:VEVENT
UID:5ee7f287a20f2b1961d25a00d0df4ae2@gruene-thueringen.de
URL;VALUE=URI:https://gruene-thueringen.de/termine/bier-mit-banaszak-goer
 ing-eckardt/
LOCATION:Patricks Irish Pub, Johannesstraße 39, Erfurt
SUMMARY:Bier mit Banaszak & Göring-Eckardt
DESCRIPTION;ALTREP="data:text/html,%0A%3Cp%3ESamstagabend%20und%20du%20ha
 st%20so%20viel%20zur%20Bundestagswahl%20zu%20sagen%20und%20Fragen%3F%3C%2
 Fp%3E%0A%0A%0A%0A%3Cp%3EDann%20komm%20auf%20ein%20%3Cstrong%3E%22Bier%20m
 it%20Banaszak%20%26amp%3B%20G%C3%B6ring-Eckardt%22%20am%2015.%20Februar%2
 0zwischen%2018%20und%2020%20Uhr%20in%20%22Patricks%20Irish%20Pub%22%3C%2F
 strong%3E%20%3Cem%3E%28Johannesstra%C3%9Fe%2039%2C%20Erfurt%29%3C%2Fem%3E
 %20an%20unsere%20politische%20Theke.%3C%2Fp%3E%0A%0A%0A%0A%3Cp%3EWir%20ha
 ben%20das%20Bier%20oder%20auch%20ein%20anderes%20erfrischendes%20Getr%C3%
 A4nk%20f%C3%BCr%20dich%20und%20du%20die%20Fragen%20an%20Felix%20Banaszak%
 2C%20Bundesvorsitzender%20B%C3%9CNDNIS%2090%2FDIE%20GR%C3%9CNEN%20und%20a
 n%20Katrin%20G%C3%B6ring-Eckardt%2C%20die%20b%C3%BCndnisgr%C3%BCne%20Th%C
 3%BCringer%20Spitzenkandidatin%20zur%20Bundestagswahl.%3C%2Fp%3E%0A%0A%0A
 %0A%3Cp%3ELass%20uns%20%C3%BCber%20alles%20reden%20was%20dir%20gerade%20a
 uf%20der%20Seele%20brennt%21%3C%2Fp%3E%0A%0A%0A%0A%3Cp%3EDu%20willst%20da
 bei%20sein%3F%20Dann%20%3Cstrong%3Esicher%20dir%20deinen%20Platz%20an%20u
 nserer%20politischen%20Theke%3C%2Fstrong%3E%20mit%20deiner%20Anmeldung%20
 %C3%BCber%20das%20nachfolgende%20Formular%3A%3C%2Fp%3E%0A%0A%0A%0A%3Cp%3E
 %3Cstrong%3EANMELDUNG%3C%2Fstrong%3E%3C%2Fp%3E%0A%0A%0A":Samstagabend und
  du hast so viel zur Bundestagswahl zu sagen und Fragen?\n\nDann komm auf
  ein "Bier mit Banaszak & Göring-Eckardt" am 15. Februar zwischen 18 und
  20 Uhr in "Patricks Irish Pub" (Johannesstraße 39\, Erfurt) an unsere p
 olitische Theke.\n\nWir haben das Bier oder auch ein anderes erfrischende
 s Getränk für dich und du die Fragen an Felix Banaszak\, Bundesvorsitze
 nder BÜNDNIS 90/DIE GRÜNEN und an Katrin Göring-Eckardt\, die bündnis
 grüne Thüringer Spitzenkandidatin zur Bundestagswahl.\n\nLass uns über
  alles reden was dir gerade auf der Seele brennt!\n\nDu willst dabei sein
 ? Dann sicher dir deinen Platz an unserer politischen Theke mit deiner An
 meldung über das nachfolgende Formular:\n\nANMELDUNG
CLASS:PUBLIC
DTSTART;TZID=Europe/Berlin:20250215T180000
DTEND;TZID=Europe/Berlin:20250215T200000
DTSTAMP:20260421T100548
END:VEVENT
END:VCALENDAR