BEGIN:VCALENDAR
VERSION:2.0
PRODID:gruene-thueringen.de
METHOD:PUBLISH
BEGIN:VTIMEZONE
TZID:Europe/Berlin
X-LIC-LOCATION:Europe/Berlin
BEGIN:DAYLIGHT
TZOFFSETFROM:+0100
TZOFFSETTO:+0200
TZNAME:CEST
DTSTART:19700329T020000
RRULE:FREQ=YEARLY;INTERVAL=1;BYDAY=-1SU;BYMONTH=3
END:DAYLIGHT
BEGIN:STANDARD
TZOFFSETFROM:+0200
TZOFFSETTO:+0100
TZNAME:CET
DTSTART:19701025T030000
RRULE:FREQ=YEARLY;INTERVAL=1;BYDAY=-1SU;BYMONTH=10
END:STANDARD
END:VTIMEZONE
BEGIN:VEVENT
UID:ac9aec4cd0a9476fe5ef5cd621f2bbc9@gruene-thueringen.de
URL;VALUE=URI:https://gruene-thueringen.de/termine/dein-digitaler-feierab
 end-am-25jan2023/
LOCATION:Zoom
SUMMARY:Dein Digitaler Feierabend: „Kindermedizin am Limit?“
DESCRIPTION;ALTREP="data:text/html,%0A%3Cp%3EEs%20ist%20eine%20Horror-Vor
 stellung%20aller%20Eltern%3A%20Das%20eigene%20Kind%20ist%20krank%2C%20kan
 n%20aber%20nicht%20medizinisch%20versorgt%20werden.%20Was%20in%20unserer%
 20Wohlstandsgesellschaft%20undenkbar%20klingt%2C%20ist%20doch%20in%20den%
 20letzten%20Monaten%20in%20einigen%20Regionen%20Deutschlands%20wahr%20gew
 orden.%20Vielerorts%20ist%20die%20Lage%20in%20den%20Kinderkliniken%20ange
 spannt%2C%20auf%20den%20Kinderintensivstationen%20mangelt%20es%20an%20fre
 ien%20Betten%20und%20Pflegepersonal.%20Auch%20viele%20Kinder-%20und%20Jug
 endarztpraxen%20laufen%20durch%20eine%20Welle%20an%20Infektionskrankheite
 n%20voll%2C%20das%20Personal%20arbeitet%20am%20Limit.%20Hinzu%20kommt%20d
 ie%20aktuelle%20Medikamentenknappheit%2C%20die%20auch%20die%20Versorgung%
 20von%20Kindern%20und%20Jugendlichen%20betrifft.%20%3C%2Fp%3E%0A%0A%0A%0A
 %3Cp%3EMit%20der%20aktuellen%20Situation%20richtet%20sich%20der%20Blick%2
 0nun%20auch%20auf%20die%20strukturellen%20Voraussetzungen%20und%20die%20F
 inanzierung%20der%20Kindermedizin.%20Wir%20fragen%20daher%3A%20Wie%20ist%
 20die%20Lage%20der%20Kinder-%20und%20Jugendmedizin%20in%20Th%C3%BCringen%
 3F%20Worin%20liegt%20die%20Ursache%20f%C3%BCr%20die%20Engp%C3%A4sse%20der
 %20letzten%20Monate%3F%20Was%20muss%20getan%20werden%2C%20um%20die%20Kind
 er-%20und%20Jugendmedizin%20besser%20aufzustellen%3F%3C%2Fp%3E%0A%0A%0A%0
 A%3Cp%3EDar%C3%BCber%20diskutiert%20unsere%20Landessprecherin%20%3Cstrong
 %3EAnn-Sophie%20Bohm%3C%2Fstrong%3E%20beim%20n%C3%A4chsten%20digitalen%20
 Feierabend%20am%20%3Cstrong%3EMittwoch%2C%20den%2025.%20Januar%202023%20u
 m%2019.30%20Uhr%3C%2Fstrong%3E%20mit%20%3Cstrong%3EJohannes%20Wagner%3C%2
 Fstrong%3E%2C%20Bundestagsabgeordneter%20und%20Mitglied%20im%20Gesundheit
 sausschuss%2C%20%3Cstrong%3EDirk%20R%C3%BChling%3C%2Fstrong%3E%2C%20Kinde
 r-%20und%20Jugendarzt%20und%20Vorstandsmitglied%20im%20Landesverband%20de
 r%20Kinder-%20und%20Jugend%C3%A4rzte%20e.V.%20Th%C3%BCringen%20und%20mit%
 3Cstrong%3E%20Prof.%20Dr.%20Axel%20Sauerbrey%3C%2Fstrong%3E%2C%20Chefarzt
 %20der%20Klinik%20f%C3%BCr%20Kinder-%20und%20Jugendmedizin%20am%20Helios%
 20Klinikum%20Erfurt.%3C%2Fp%3E%0A%0A%0A%0A%3Cp%3ESchalte%20Dich%20mit%20r
 ein%20und%20diskutier%20mit%21%20Unter%20den%20Zugangsdaten%20unten%20kan
 nst%20Du%20direkt%20an%20der%20Veranstaltung%20teilnehmen.%3C%2Fp%3E%0A%0
 A%0A%0A%3Chr%20class%3D%22wp-block-separator%20has-alpha-channel-opacity%
 20is-style-dots%22%20%2F%3E%0A%0A%0A%0A%3Cp%3E%3Cstrong%3EZoom-Zugangsdat
 en%3C%2Fstrong%3E%3C%2Fp%3E%0A%0A%0A%0A%3Cp%3EZoom-Meeting%20beitreten%3C
 br%3E%3Ca%20href%3D%22https%3A%2F%2Feu01web.zoom.us%2Fj%2F64647284216%3Fp
 wd%3DTHBkMU1wNXB5ZHROenk1SFRVbHdnQT09%22%3Ehttps%3A%2F%2Feu01web.zoom.us%
 2Fj%2F64647284216%3Fpwd%3DTHBkMU1wNXB5ZHROenk1SFRVbHdnQT09%3C%2Fa%3E%3C%2
 Fp%3E%0A%0A%0A%0A%3Cp%3EMeeting-ID%3A%20646%204728%204216%3Cbr%3EKenncode
 %3A%20819761%3Cbr%3ESchnelleinwahl%20mobil%3Cbr%3E%2B496950502596%2C%2C64
 647284216%3C%2Fp%3E%0A":Es ist eine Horror-Vorstellung aller Eltern: Das 
 eigene Kind ist krank\, kann aber nicht medizinisch versorgt werden. Was 
 in unserer Wohlstandsgesellschaft undenkbar klingt\, ist doch in den letz
 ten Monaten in einigen Regionen Deutschlands wahr geworden. Vielerorts is
 t die Lage in den Kinderkliniken angespannt\, auf den Kinderintensivstati
 onen mangelt es an freien Betten und Pflegepersonal. Auch viele Kinder- u
 nd Jugendarztpraxen laufen durch eine Welle an Infektionskrankheiten voll
 \, das Personal arbeitet am Limit. Hinzu kommt die aktuelle Medikamentenk
 nappheit\, die auch die Versorgung von Kindern und Jugendlichen betrifft.
 \n\nMit der aktuellen Situation richtet sich der Blick nun auch auf die s
 trukturellen Voraussetzungen und die Finanzierung der Kindermedizin. Wir 
 fragen daher: Wie ist die Lage der Kinder- und Jugendmedizin in Thüringe
 n? Worin liegt die Ursache für die Engpässe der letzten Monate? Was mus
 s getan werden\, um die Kinder- und Jugendmedizin besser aufzustellen?\n\
 nDarüber diskutiert unsere Landessprecherin Ann-Sophie Bohm beim nächst
 en digitalen Feierabend am Mittwoch\, den 25. Januar 2023 um 19.30 Uhr mi
 t Johannes Wagner\, Bundestagsabgeordneter und Mitglied im Gesundheitsaus
 schuss\, Dirk Rühling\, Kinder- und Jugendarzt und Vorstandsmitglied im 
 Landesverband der Kinder- und Jugendärzte e.V. Thüringen und mit Prof. 
 Dr. Axel Sauerbrey\, Chefarzt der Klinik für Kinder- und Jugendmedizin a
 m Helios Klinikum Erfurt.\n\nSchalte Dich mit rein und diskutier mit! Unt
 er den Zugangsdaten unten kannst Du direkt an der Veranstaltung teilnehme
 n.\n\nZoom-Zugangsdaten\n\nZoom-Meeting beitretenhttps://eu01web.zoom.us/
 j/64647284216?pwd=THBkMU1wNXB5ZHROenk1SFRVbHdnQT09\n\nMeeting-ID: 646 472
 8 4216Kenncode: 819761Schnelleinwahl mobil+496950502596\,\,64647284216
CLASS:PUBLIC
DTSTART;TZID=Europe/Berlin:20230125T193000
DTEND;TZID=Europe/Berlin:20230125T210000
DTSTAMP:20260420T063317
END:VEVENT
END:VCALENDAR