BEGIN:VCALENDAR
VERSION:2.0
PRODID:gruene-thueringen.de
METHOD:PUBLISH
BEGIN:VTIMEZONE
TZID:Europe/Berlin
X-LIC-LOCATION:Europe/Berlin
BEGIN:DAYLIGHT
TZOFFSETFROM:+0100
TZOFFSETTO:+0200
TZNAME:CEST
DTSTART:19700329T020000
RRULE:FREQ=YEARLY;INTERVAL=1;BYDAY=-1SU;BYMONTH=3
END:DAYLIGHT
BEGIN:STANDARD
TZOFFSETFROM:+0200
TZOFFSETTO:+0100
TZNAME:CET
DTSTART:19701025T030000
RRULE:FREQ=YEARLY;INTERVAL=1;BYDAY=-1SU;BYMONTH=10
END:STANDARD
END:VTIMEZONE
BEGIN:VEVENT
UID:d95f9010e7be188e326d007986c44289@gruene-thueringen.de
URL;VALUE=URI:https://gruene-thueringen.de/termine/dein-digitaler-feierab
 end-am2feb22/
LOCATION:
SUMMARY:Dein Digitaler Feierabend: „Der neue BuVo vor neuen Aufgaben: B
 ernhard im Gespräch mit Heiko“
DESCRIPTION;ALTREP="data:text/html,%0A%3Cp%3EDie%20BDK%20ist%20vor%C3%BCb
 er.%20Ein%20neuer%20Vorstand%20ist%20gew%C3%A4hlt%20und%20es%20wurden%20S
 atzungs%C3%A4nderungen%20beschlossen.%20Mit%20Ricarda%20Lang%2C%20Omid%20
 Nouripour%2C%20Pegah%20Edalatian%2C%20Emily%20B%C3%BCning%20als%20politis
 che%20Gesch%C3%A4ftsf%C3%BChrerin%20und%20Marc%20Urbatsch%20als%20Bundess
 chatzmeister%20gibt%20es%20eine%20Mischung%20aus%20erfahrenen%20Bundespar
 teivorst%C3%A4nden%20und%20neuem%20Aufbruchsgeist.%20%3C%2Fp%3E%0A%0A%0A%
 0A%3Cp%3EHeiko%20Knopf%20hat%20es%20auch%20geschafft.%20Mit%20einer%20seh
 r%20guten%20Rede%20und%20viel%20Unterst%C3%BCtzung%20aus%20allen%20Ostver
 b%C3%A4nden%2C%20vor%20allem%20nat%C3%BCrlich%20von%20uns%2C%20gelang%20i
 hm%20trotz%20drei%20Gegenkandidaten%20ein%20%C3%BCberzeugender%20Sieg%20i
 m%20ersten%20Wahlgang.%20Die%20Aufgaben%2C%20die%20auf%20ihn%20warten%2C%
 20die%20Erwartungen%20die%20auf%20ihm%20ruhen%2C%20sind%20gro%C3%9F.%20%3
 C%2Fp%3E%0A%0A%0A%0A%3Cp%3EDurch%20die%20Regierungsbeteiligung%20im%20Bun
 d%20ergeben%20sich%20gro%C3%9Fe%20Chancen%20unsere%20Konzepte%20in%20Wirk
 lichkeit%20umzum%C3%BCnzen%2C%20aber%20die%20Gefahr%20der%20schwindenden%
 20Unterst%C3%BCtzung%20in%20Regierungsverantwortung%20ist%20ebenfalls%20g
 egeben.%3C%2Fp%3E%0A%0A%0A%0A%3Cp%3EMit%20unseren%20Delegierten%20und%20m
 it%20%3Cstrong%3EHeiko%20Knopf%3C%2Fstrong%3E%20wollen%20wir%20die%20BDK%
 20auswerten%20und%20uns%20die%20Projekte%20f%C3%BCr%20die%20Zukunft%20ans
 chauen.%20Unser%20Landessprecher%20%3Cstrong%3EBernhard%20Stengele%3C%2Fs
 trong%3E%20wird%20die%20Veranstaltung%20moderieren.%20Sei%20dabei%20am%20
 %3Cstrong%3EMittwoch%2C%20den%202.%20Februar%20um%2019.30%20Uhr%3C%2Fstro
 ng%3E%2C%20bei%20unserem%20n%C3%A4chsten%20digitalen%20Feierabend.%3C%2Fp
 %3E%0A%0A%0A%0A%3Cp%3E%C3%9Cber%20diesen%20Link%20gelangst%20du%20direkt%
 20zur%20Veranstaltung%20auf%20Zoom%3A%20%3C%2Fp%3E%0A%0A%0A%0A%3Cp%3E%3Ca
 %20href%3D%22https%3A%2F%2Feu01web.zoom.us%2Fj%2F64647284216%3Fpwd%3DTHBk
 MU1wNXB5ZHROenk1SFRVbHdnQT09%22%3Ehttps%3A%2F%2Feu01web.zoom.us%2Fj%2F646
 47284216%3Fpwd%3DTHBkMU1wNXB5ZHROenk1SFRVbHdnQT09%3C%2Fa%3E%3C%2Fp%3E%0A"
 :Die BDK ist vorüber. Ein neuer Vorstand ist gewählt und es wurden Satz
 ungsänderungen beschlossen. Mit Ricarda Lang\, Omid Nouripour\, Pegah Ed
 alatian\, Emily Büning als politische Geschäftsführerin und Marc Urbat
 sch als Bundesschatzmeister gibt es eine Mischung aus erfahrenen Bundespa
 rteivorständen und neuem Aufbruchsgeist.\n\nHeiko Knopf hat es auch gesc
 hafft. Mit einer sehr guten Rede und viel Unterstützung aus allen Ostver
 bänden\, vor allem natürlich von uns\, gelang ihm trotz drei Gegenkandi
 daten ein überzeugender Sieg im ersten Wahlgang. Die Aufgaben\, die auf 
 ihn warten\, die Erwartungen die auf ihm ruhen\, sind groß.\n\nDurch die
  Regierungsbeteiligung im Bund ergeben sich große Chancen unsere Konzept
 e in Wirklichkeit umzumünzen\, aber die Gefahr der schwindenden Unterst
 ützung in Regierungsverantwortung ist ebenfalls gegeben.\n\nMit unseren 
 Delegierten und mit Heiko Knopf wollen wir die BDK auswerten und uns die 
 Projekte für die Zukunft anschauen. Unser Landessprecher Bernhard Stenge
 le wird die Veranstaltung moderieren. Sei dabei am Mittwoch\, den 2. Febr
 uar um 19.30 Uhr\, bei unserem nächsten digitalen Feierabend.\n\nÜber d
 iesen Link gelangst du direkt zur Veranstaltung auf Zoom:\n\nhttps://eu01
 web.zoom.us/j/64647284216?pwd=THBkMU1wNXB5ZHROenk1SFRVbHdnQT09
CLASS:PUBLIC
DTSTART;TZID=Europe/Berlin:20220202T193000
DTEND;TZID=Europe/Berlin:20220202T210000
DTSTAMP:20260421T100549
END:VEVENT
END:VCALENDAR