BEGIN:VCALENDAR
VERSION:2.0
PRODID:gruene-thueringen.de
METHOD:PUBLISH
BEGIN:VTIMEZONE
TZID:Europe/Berlin
X-LIC-LOCATION:Europe/Berlin
BEGIN:DAYLIGHT
TZOFFSETFROM:+0100
TZOFFSETTO:+0200
TZNAME:CEST
DTSTART:19700329T020000
RRULE:FREQ=YEARLY;INTERVAL=1;BYDAY=-1SU;BYMONTH=3
END:DAYLIGHT
BEGIN:STANDARD
TZOFFSETFROM:+0200
TZOFFSETTO:+0100
TZNAME:CET
DTSTART:19701025T030000
RRULE:FREQ=YEARLY;INTERVAL=1;BYDAY=-1SU;BYMONTH=10
END:STANDARD
END:VTIMEZONE
BEGIN:VEVENT
UID:7ea67cab2a4cf08b2f6b110750eff86a@gruene-thueringen.de
URL;VALUE=URI:https://gruene-thueringen.de/termine/erfurt-stadtspaziergan
 g-mit-toni-hofreiter-26aug21/
LOCATION:Leipziger Platz, 99085 Erfurt
SUMMARY:Erfurt: Stadtspaziergang mit Toni Hofreiter
DESCRIPTION;ALTREP="data:text/html,%0A%3Cp%3EAm%20kommenden%20Donnerstag%
 2C%20den%20%3Cstrong%3E26.%20August%202021%3C%2Fstrong%3E%2C%20starten%20
 wir%20um%20%3Cstrong%3E14%20Uhr%3C%2Fstrong%3E%20vom%20Leipziger%20Platz%
 20in%20Erfurt%20zu%20einem%20Stadtspaziergang%20mit%20dem%20Fraktionsvors
 itzenden%20von%20%3Cstrong%3EB%C3%9CNDNIS%2090%2FDIE%20GR%C3%9CNEN%3C%2Fs
 trong%3E%20im%20Deutschen%20Bundestag%2C%20%3Cstrong%3EToni%20Hofreiter%3
 C%2Fstrong%3E.%20Unser%20besonderes%20Augenmerk%20bei%20dieser%20Exkursio
 n%20durch%20die%20Th%C3%BCringer%20Landeshauptstadt%20gilt%20dem%20Thema%
 20%3Cstrong%3EHitzeresiliente%20Stadt%20und%20Stadtb%C3%A4ume%3C%2Fstrong
 %3E%2C%20welches%20vor%20dem%20Hintergrund%20des%20Klimawandels%20zusehen
 s%20in%20den%20Fokus%20der%20Stadtplaner%2Ainnen%20r%C3%BCckt.%3C%2Fp%3E%
 0A%0A%0A%0A%3Cp%3ESei%20dabei%20%E2%80%93%20es%20wird%20garantiert%20%22z
 iemlich%20cool%22%20...%3C%2Fp%3E%0A":Am kommenden Donnerstag\, den 26. A
 ugust 2021\, starten wir um 14 Uhr vom Leipziger Platz in Erfurt zu einem
  Stadtspaziergang mit dem Fraktionsvorsitzenden von BÜNDNIS 90/DIE GRÜN
 EN im Deutschen Bundestag\, Toni Hofreiter. Unser besonderes Augenmerk be
 i dieser Exkursion durch die Thüringer Landeshauptstadt gilt dem Thema H
 itzeresiliente Stadt und Stadtbäume\, welches vor dem Hintergrund des Kl
 imawandels zusehens in den Fokus der Stadtplaner*innen rückt.\n\nSei dab
 ei – es wird garantiert "ziemlich cool" ...
CLASS:PUBLIC
DTSTART;TZID=Europe/Berlin:20210826T140000
DTEND;TZID=Europe/Berlin:20210826T150000
DTSTAMP:20260421T100644
END:VEVENT
END:VCALENDAR