BEGIN:VCALENDAR
VERSION:2.0
PRODID:gruene-thueringen.de
METHOD:PUBLISH
BEGIN:VTIMEZONE
TZID:Europe/Berlin
X-LIC-LOCATION:Europe/Berlin
BEGIN:DAYLIGHT
TZOFFSETFROM:+0100
TZOFFSETTO:+0200
TZNAME:CEST
DTSTART:19700329T020000
RRULE:FREQ=YEARLY;INTERVAL=1;BYDAY=-1SU;BYMONTH=3
END:DAYLIGHT
BEGIN:STANDARD
TZOFFSETFROM:+0200
TZOFFSETTO:+0100
TZNAME:CET
DTSTART:19701025T030000
RRULE:FREQ=YEARLY;INTERVAL=1;BYDAY=-1SU;BYMONTH=10
END:STANDARD
END:VTIMEZONE
BEGIN:VEVENT
UID:f03456d2ea319af5892292102270de7b@gruene-thueringen.de
URL;VALUE=URI:https://gruene-thueringen.de/termine/kv-erfurt-politischer-
 dialog-am-15feb23/
LOCATION:Grünes Büro, Michaelisstraße 15, Erfurt
SUMMARY:KV Erfurt: „Politischer Dialog“
DESCRIPTION;ALTREP="data:text/html,%0A%3Cp%3EDer%C2%A0%3Cstrong%3EKreisve
 rband%20Erfurt%3C%2Fstrong%3E%C2%A0von%C2%A0%3Cstrong%3EB%C3%9CNDNIS%2090
 %2FDIE%20GR%C3%9CNEN%20Landesverband%20Th%C3%BCringen%3C%2Fstrong%3E%C2%A
 0l%C3%A4dt%20am%20%3Cstrong%3EMittwoch%3C%2Fstrong%3E%2C%20den%C2%A0%3Cst
 rong%3E15.%20Februar%202023%3C%2Fstrong%3E%C2%A0ab%C2%A0%3Cstrong%3E19%3A
 30%20Uhr%3C%2Fstrong%3E%C2%A0zum%20politischen%20Dialog%20ins%20Gr%C3%BCn
 e%20B%C3%BCro%20ein.%3C%2Fp%3E%0A%0A%0A%0A%3Cp%3EMehr%20Informationen%20f
 indest%20du%20auf%20der%26nbsp%3B%3Ca%20rel%3D%22noreferrer%20noopener%22
 %20href%3D%22https%3A%2F%2Fwww.gruene-erfurt.de%2Ftermine%2F%22%20target%
 3D%22_blank%22%3EHomepage%26nbsp%3B%3C%2Fa%3Edes%26nbsp%3B%3Cstrong%3EKV%
 20Erfurt%3C%2Fstrong%3E%3C%2Fp%3E%0A":Der Kreisverband Erfurt von BÜN
 DNIS 90/DIE GRÜNEN Landesverband Thüringen lädt am Mittwoch\, den 15
 . Februar 2023 ab 19:30 Uhr zum politischen Dialog ins Grüne Büro ei
 n.\n\nMehr Informationen findest du auf der Homepage des KV Erfurt
CLASS:PUBLIC
DTSTART;TZID=Europe/Berlin:20230215T193000
DTEND;TZID=Europe/Berlin:20230215T213000
DTSTAMP:20260420T133030
END:VEVENT
END:VCALENDAR