BEGIN:VCALENDAR
VERSION:2.0
PRODID:gruene-thueringen.de
METHOD:PUBLISH
BEGIN:VTIMEZONE
TZID:Europe/Berlin
X-LIC-LOCATION:Europe/Berlin
BEGIN:DAYLIGHT
TZOFFSETFROM:+0100
TZOFFSETTO:+0200
TZNAME:CEST
DTSTART:19700329T020000
RRULE:FREQ=YEARLY;INTERVAL=1;BYDAY=-1SU;BYMONTH=3
END:DAYLIGHT
BEGIN:STANDARD
TZOFFSETFROM:+0200
TZOFFSETTO:+0100
TZNAME:CET
DTSTART:19701025T030000
RRULE:FREQ=YEARLY;INTERVAL=1;BYDAY=-1SU;BYMONTH=10
END:STANDARD
END:VTIMEZONE
BEGIN:VEVENT
UID:19b5f0a9d9307ac118c0e25af7f210c8@gruene-thueringen.de
URL;VALUE=URI:https://gruene-thueringen.de/termine/kv-gera-wanderung-am-3
 1jul22/
LOCATION:Naturschutzgebiet Lasur, Gera
SUMMARY:KV Gera: Wanderung zur Lasur
DESCRIPTION;ALTREP="data:text/html,%0A%3Cp%3EDer%20%3Cstrong%3EKreisverba
 nd%20Gera%3C%2Fstrong%3E%20von%20%3Cstrong%3EB%C3%9CNDNIS%2090%2FDIE%20GR
 %C3%9CNEN%20Landesverband%20Th%C3%BCringen%3C%2Fstrong%3E%20l%C3%A4dt%20a
 m%20%3Cstrong%3E31.%20Juli%202022%20%3C%2Fstrong%3Eab%20%3Cstrong%3E10%20
 Uhr%3C%2Fstrong%3E%20zu%20einer%20gef%C3%BChrten%20Wanderung%20mit%20dem%
 20ehemaligen%20Geografielehrer%20und%20Autor%20des%20Wanderf%C3%BChrers%2
 0%22Gera%20und%20Umgebung%22%20Joachim%20Bauer%20zum%20Naturschutzgebiet%
 20Lasur%20ein.%3C%2Fp%3E%0A%0A%0A%0A%3Cp%3EDie%20enorme%20Artenvielfalt%2
 0an%20V%C3%B6geln%2C%20K%C3%A4fern%2C%20Farn-%20und%20Bl%C3%BCtenpflanzen
 %2C%20Moosen%20und%20Flechten%20sind%20der%20Grund%2C%20dass%20die%20Lasu
 r%20im%20Juni%202021%20zum%20Naturschutzgebiet%20erkl%C3%A4rt%20wurde.%20
 Alle%20Wanderer%20k%C3%B6nnen%20sich%20auf%20eine%20einzigartige%20Natur%
 20freuen.%3C%2Fp%3E%0A%0A%0A%0A%3Cp%3E%3Cstrong%3ETreffpunkt%3A%3C%2Fstro
 ng%3E%20Stra%C3%9Fenbahnhaltestelle%20%22Pforten%22%20der%20Linie%201%3C%
 2Fp%3E%0A%0A%0A%0A%3Cp%3EWenn%20du%20mit%20dabei%20sein%20m%C3%B6chtest%2
 C%20dann%20melde%20dich%20beim%20%3Ca%20href%3D%22https%3A%2F%2Fgruene-ge
 ra.de%2Fkontakt%2F%22%20data-type%3D%22URL%22%20data-id%3D%22https%3A%2F%
 2Fgruene-gera.de%2Fkontakt%2F%22%20target%3D%22_blank%22%20rel%3D%22noref
 errer%20noopener%22%3EKV%20Gera%3C%2Fa%3E%20an.%20%3C%2Fp%3E%0A":Der Krei
 sverband Gera von BÜNDNIS 90/DIE GRÜNEN Landesverband Thüringen lädt 
 am 31. Juli 2022 ab 10 Uhr zu einer geführten Wanderung mit dem ehemalig
 en Geografielehrer und Autor des Wanderführers "Gera und Umgebung" Joach
 im Bauer zum Naturschutzgebiet Lasur ein.\n\nDie enorme Artenvielfalt an 
 Vögeln\, Käfern\, Farn- und Blütenpflanzen\, Moosen und Flechten sind 
 der Grund\, dass die Lasur im Juni 2021 zum Naturschutzgebiet erklärt wu
 rde. Alle Wanderer können sich auf eine einzigartige Natur freuen.\n\nTr
 effpunkt: Straßenbahnhaltestelle "Pforten" der Linie 1\n\nWenn du mit da
 bei sein möchtest\, dann melde dich beim KV Gera an.
CLASS:PUBLIC
DTSTART;TZID=Europe/Berlin:20220731T100000
DTEND;TZID=Europe/Berlin:20220731T000000
DTSTAMP:20260422T151359
END:VEVENT
END:VCALENDAR