BEGIN:VCALENDAR
VERSION:2.0
PRODID:gruene-thueringen.de
METHOD:PUBLISH
BEGIN:VTIMEZONE
TZID:Europe/Berlin
X-LIC-LOCATION:Europe/Berlin
BEGIN:DAYLIGHT
TZOFFSETFROM:+0100
TZOFFSETTO:+0200
TZNAME:CEST
DTSTART:19700329T020000
RRULE:FREQ=YEARLY;INTERVAL=1;BYDAY=-1SU;BYMONTH=3
END:DAYLIGHT
BEGIN:STANDARD
TZOFFSETFROM:+0200
TZOFFSETTO:+0100
TZNAME:CET
DTSTART:19701025T030000
RRULE:FREQ=YEARLY;INTERVAL=1;BYDAY=-1SU;BYMONTH=10
END:STANDARD
END:VTIMEZONE
BEGIN:VEVENT
UID:3b8391e733bc77de4acd3a8f8ddd0b53@gruene-thueringen.de
URL;VALUE=URI:https://gruene-thueringen.de/termine/kv-kyffhauserkreis-mit
 gliederversammlung-am-25nov24/
LOCATION:Bad Frankenhausen
SUMMARY:KV Kyffhäuserkreis: Mitgliederversammlung
DESCRIPTION;ALTREP="data:text/html,%0A%3Cp%3E%3C%2Fp%3E%0A%0A%0A%0A%3Cp%3
 EDer%C2%A0%3Cstrong%3EKreisverband%20Kyffh%C3%A4userkreis%3C%2Fstrong%3E%
 20von%20%3Cstrong%3EB%C3%9CNDNIS%2090%2FDIE%20GR%C3%9CNEN%20Landesverband
 %20Th%C3%BCringen%3C%2Fstrong%3E%20trifft%20sich%20am%C2%A0%3Cstrong%3EMo
 ntag%3C%2Fstrong%3E%2C%20den%C2%A0%3Cstrong%3E25.%20November%202024%20ab%
 2018%20Uhr%3C%2Fstrong%3E%C2%A0zur%20Mitgliederversammlung%20in%20Bad%20F
 rankenhausen.%3C%2Fp%3E%0A%0A%0A%0A%3Cp%3EMehr%20Informationen%20findest%
 20du%20auf%20der%26nbsp%3B%3Ca%20rel%3D%22noreferrer%20noopener%22%20href
 %3D%22https%3A%2F%2Fwww.gruene-kyffhaeuserkreis.de%2Fstartseite%2F%22%20d
 ata-type%3D%22URL%22%20data-id%3D%22https%3A%2F%2Fwww.gruene-kyffhaeuserk
 reis.de%2Fstartseite%2F%22%20target%3D%22_blank%22%3EHomepage%3C%2Fa%3E%2
 0des%20KV%20Kyffh%C3%A4userkreis%3C%2Fp%3E%0A%0A%0A%0A%3Cp%3E%3C%2Fp%3E%0
 A":Der Kreisverband Kyffhäuserkreis von BÜNDNIS 90/DIE GRÜNEN Landesv
 erband Thüringen trifft sich am Montag\, den 25. November 2024 ab 18 U
 hr zur Mitgliederversammlung in Bad Frankenhausen.\n\nMehr Informationen
  findest du auf der Homepage des KV Kyffhäuserkreis
CLASS:PUBLIC
DTSTART;TZID=Europe/Berlin:20241125T180000
DTEND;TZID=Europe/Berlin:20241125T190000
DTSTAMP:20260421T013048
END:VEVENT
END:VCALENDAR