BEGIN:VCALENDAR
VERSION:2.0
PRODID:gruene-thueringen.de
METHOD:PUBLISH
BEGIN:VTIMEZONE
TZID:Europe/Berlin
X-LIC-LOCATION:Europe/Berlin
BEGIN:DAYLIGHT
TZOFFSETFROM:+0100
TZOFFSETTO:+0200
TZNAME:CEST
DTSTART:19700329T020000
RRULE:FREQ=YEARLY;INTERVAL=1;BYDAY=-1SU;BYMONTH=3
END:DAYLIGHT
BEGIN:STANDARD
TZOFFSETFROM:+0200
TZOFFSETTO:+0100
TZNAME:CET
DTSTART:19701025T030000
RRULE:FREQ=YEARLY;INTERVAL=1;BYDAY=-1SU;BYMONTH=10
END:STANDARD
END:VTIMEZONE
BEGIN:VEVENT
UID:8119cb7f8621d13595e36135851fd728@gruene-thueringen.de
URL;VALUE=URI:https://gruene-thueringen.de/termine/regionalkonferenz-in-g
 era/
LOCATION:Kulturhaus Häselburg, Burgstraße 12, Gera
SUMMARY:Regionalkonferenz in Gera
DESCRIPTION;ALTREP="data:text/html,%0A%3Cp%20id%3D%22isPasted%22%3EDu%20w
 illst%20Gr%C3%BCne%20Politik%20vor%20Ort%20weiterentwickeln%20und%20dazu%
 20ins%20Gespr%C3%A4ch%20kommen%3F%26nbsp%3BDu%20hast%20Themen%20oder%20Id
 een%2C%20zu%20denen%20du%20mit%20dem%20Landesvorstand%20und%20anderen%20M
 itgliedern%20diskutieren%20willst%3F%20Du%20kannst%20von%20erfolgreichen%
 20Aktionen%20bei%20dir%20vor%20Ort%20berichten%20oder%20w%C3%BCrdest%20ge
 rn%20h%C3%B6ren%2C%20was%20in%20anderen%20Kreisverb%C3%A4nden%20passiert%
 3F%3C%2Fp%3E%0A%0A%0A%0A%3Cp%3EDann%20komm%20zu%20einer%20unserer%20Regio
 nalkonferenzen%21%3C%2Fp%3E%0A%0A%0A%0A%3Cp%3EDie%20Veranstaltung%20finde
 t%20in%20vier%20St%C3%A4dten%20statt%2C%20um%20m%C3%B6glichst%20vielen%20
 Mitgliedern%20die%20Gelegenheit%20zu%20geben%2C%20teilzunehmen.%26nbsp%3B
 F%C3%BCr%20Snacks%20und%20Getr%C3%A4nke%20wird%20gesorgt.%3C%2Fp%3E%0A%0A
 %0A%0A%3Cp%3E%3Cstrong%3EWir%20freuen%20uns%20%C3%BCber%20deine%20Anmeldu
 ng%21%20%3C%2Fstrong%3E%3C%2Fp%3E%0A%0A%0A%0A%3Cp%3EAnmeldung%20und%20all
 e%20Informationen%20unter%3A%20%3Ca%20href%3D%22https%3A%2F%2Fgruene-thue
 ringen.de%2Fregionalkonferenzen-2026%2F%22%3Ehttps%3A%2F%2Fgruene-thuerin
 gen.de%2Fregionalkonferenzen-2026%2F%3C%2Fa%3E%3C%2Fp%3E%0A%0A%0A%0A%3Cp%
 3EHinweis%3A%20Die%20Veranstaltung%20richtet%20sich%20an%20Mitglieder.%3C
 %2Fp%3E%0A%0A%0A%0A%3Cp%3E%3C%2Fp%3E%0A":Du willst Grüne Politik vor Ort
  weiterentwickeln und dazu ins Gespräch kommen? Du hast Themen oder Ide
 en\, zu denen du mit dem Landesvorstand und anderen Mitgliedern diskutier
 en willst? Du kannst von erfolgreichen Aktionen bei dir vor Ort berichten
  oder würdest gern hören\, was in anderen Kreisverbänden passiert?\n\n
 Dann komm zu einer unserer Regionalkonferenzen!\n\nDie Veranstaltung find
 et in vier Städten statt\, um möglichst vielen Mitgliedern die Gelegenh
 eit zu geben\, teilzunehmen. Für Snacks und Getränke wird gesorgt.\n\n
 Wir freuen uns über deine Anmeldung!\n\nAnmeldung und alle Informationen
  unter: https://gruene-thueringen.de/regionalkonferenzen-2026/\n\nHinweis
 : Die Veranstaltung richtet sich an Mitglieder.
CLASS:PUBLIC
DTSTART;TZID=Europe/Berlin:20260425T100000
DTEND;TZID=Europe/Berlin:20260425T140000
DTSTAMP:20260422T143004
END:VEVENT
END:VCALENDAR