BEGIN:VCALENDAR
VERSION:2.0
PRODID:gruene-thueringen.de
METHOD:PUBLISH
BEGIN:VTIMEZONE
TZID:Europe/Berlin
X-LIC-LOCATION:Europe/Berlin
BEGIN:DAYLIGHT
TZOFFSETFROM:+0100
TZOFFSETTO:+0200
TZNAME:CEST
DTSTART:19700329T020000
RRULE:FREQ=YEARLY;INTERVAL=1;BYDAY=-1SU;BYMONTH=3
END:DAYLIGHT
BEGIN:STANDARD
TZOFFSETFROM:+0200
TZOFFSETTO:+0100
TZNAME:CET
DTSTART:19701025T030000
RRULE:FREQ=YEARLY;INTERVAL=1;BYDAY=-1SU;BYMONTH=10
END:STANDARD
END:VTIMEZONE
BEGIN:VEVENT
UID:3bc783c925e8dc2fbbdc0a2d6ee52b67@gruene-thueringen.de
URL;VALUE=URI:https://gruene-thueringen.de/termine/rv-wartburgkreis-stadt
 -eisenach/
LOCATION:Kutscherstube, Bahnhofstraße 23, Bad Salzungen 36433
SUMMARY:RV  Wartburgkreis/Stadt Eisenach: Mitgliederversammlung
DESCRIPTION;ALTREP="data:text/html,%0A%3Cp%3EDer%20%3Cstrong%3ERegionalve
 rband%20Wartburgkreis%2FStadt%20Eisenach%3C%2Fstrong%3E%20von%C2%A0%3Cstr
 ong%3EB%C3%9CNDNIS%2090%2FDIE%20GR%C3%9CNEN%20Landesverband%20Th%C3%BCrin
 gen%3C%2Fstrong%3E%C2%A0l%C3%A4dt%20am%C2%A0%3Cstrong%3EMittwoch%3C%2Fstr
 ong%3E%2C%20den%2022.10.2025%C2%A0um%C2%A018%3A30%20Uhr%C2%A0zur%20Mitgli
 ederversammlung%20ein.%3C%2Fp%3E%0A%0A%0A%0A%3Cp%3EMehr%20Informationen%2
 0findest%20du%20auf%20der%C2%A0Homepage%20des%20%3Ca%20href%3D%22https%3A
 %2F%2Fwww.gruene-wartburgkreis-eisenach.de%2Ftermine%2Fmitgliederversamml
 ung-des-regonalverbandes%2F%22%20data-type%3D%22link%22%20data-id%3D%22ht
 tps%3A%2F%2Fwww.gruene-wartburgkreis-eisenach.de%2Ftermine%2Fmitgliederve
 rsammlung-des-regonalverbandes%2F%22%3ERV%20Wartburgkreis%2FStadt%20Eisen
 ach%3C%2Fa%3E.%3C%2Fp%3E%0A%0A%0A%0A%3Cp%3E%3C%2Fp%3E%0A":Der Regionalver
 band Wartburgkreis/Stadt Eisenach von BÜNDNIS 90/DIE GRÜNEN Landesverb
 and Thüringen lädt am Mittwoch\, den 22.10.2025 um 18:30 Uhr zur M
 itgliederversammlung ein.\n\nMehr Informationen findest du auf der Homep
 age des RV Wartburgkreis/Stadt Eisenach.
CLASS:PUBLIC
DTSTART;TZID=Europe/Berlin:20251022T183000
DTEND;TZID=Europe/Berlin:20251022T210000
DTSTAMP:20260421T100644
END:VEVENT
END:VCALENDAR