BEGIN:VCALENDAR
VERSION:2.0
PRODID:gruene-thueringen.de
METHOD:PUBLISH
BEGIN:VTIMEZONE
TZID:Europe/Berlin
X-LIC-LOCATION:Europe/Berlin
BEGIN:DAYLIGHT
TZOFFSETFROM:+0100
TZOFFSETTO:+0200
TZNAME:CEST
DTSTART:19700329T020000
RRULE:FREQ=YEARLY;INTERVAL=1;BYDAY=-1SU;BYMONTH=3
END:DAYLIGHT
BEGIN:STANDARD
TZOFFSETFROM:+0200
TZOFFSETTO:+0100
TZNAME:CET
DTSTART:19701025T030000
RRULE:FREQ=YEARLY;INTERVAL=1;BYDAY=-1SU;BYMONTH=10
END:STANDARD
END:VTIMEZONE
BEGIN:VEVENT
UID:9ec37374596445dd0282c7c61aa4fa12@gruene-thueringen.de
URL;VALUE=URI:https://gruene-thueringen.de/termine/schmalkalden-hebammen-
 staerken-geburtshilfe-sichern-25aug21/
LOCATION:Altmarkt, 98574 Schmalkalden
SUMMARY:Schmalkalden: „Hebammen stärken – Geburtshilfe sichern!“
DESCRIPTION;ALTREP="data:text/html,%0A%3Cp%3EHebammen%20sind%20f%C3%BCr%2
 0die%20gute%20Versorgung%20und%20Begleitung%20von%20Familien%20essenziell
 %21%20Doch%20in%20Th%C3%BCringen%20gibt%20es%20immer%20weniger%2C%20manch
 erorts%20sind%20fast%20keine%20freien%20Hebammen%20mehr%20zu%20finden.%20
 Gerade%20im%20l%C3%A4ndlichen%20Raum%20wird%20die%20Versorgung%20immer%20
 knapper.%20In%20Th%C3%BCringen%20schlie%C3%9Fen%20zudem%20immer%20mehr%20
 Geburtsstationen%2C%20wie%20k%C3%BCrzlich%20in%20Hildburghausen%2C%20Schm
 alkalden%2C%20Schleiz%20oder%20Greiz.%20In%20den%20noch%20bestehenden%20K
 rei%C3%9Fs%C3%A4len%20kommt%20es%20immer%20%C3%B6fter%20zu%20Unterversorg
 ung%20und%20viel%20zu%20wenige%20Hebammen%20m%C3%BCssen%20viel%20zu%20vie
 le%20Geb%C3%A4rende%20betreuen.%20Aufgrund%20der%20hohen%20Arbeitsbelastu
 ng%2C%20insbesondere%20in%20Kliniken%2C%20denkt%20jede%20vierte%20Hebamme
 %20dar%C3%BCber%20nach%20ihren%20Beruf%20aufzugeben.%20Das%20kann%20so%20
 nicht%20weitergehen%21%3C%2Fp%3E%0A%0A%0A%0A%3Cp%3EAm%20Mittwoch%2C%20den
 %26nbsp%3B%3Cstrong%3E25.%20August%202021%3C%2Fstrong%3E%2C%20findet%20de
 shalb%20unsere%20Aktion%20%E2%80%9EHebammen%20st%C3%A4rken%20%E2%80%93%20
 Geburtshilfe%20sichern%21%E2%80%9C%20in%20Schmalkalden%20statt%3B%20und%2
 0zwar%20um%2010%20Uhr%20auf%20dem%20Altmarkt.%20Mit%20dabei%20unter%20and
 erem%20Landessprecherin%26nbsp%3B%3Cstrong%3EAnn-Sophie%20Bohm%3C%2Fstron
 g%3E%20und%20Gr%C3%BCnen-MdL%26nbsp%3B%3Cstrong%3EMadeleine%20Henfling%3C
 %2Fstrong%3E.%3C%2Fp%3E%0A%0A%0A%0A%3Cp%3E%3Cstrong%3EWir%20freuen%20uns%
 20auf%20euch%21%3C%2Fstrong%3E%3Ca%20href%3D%22https%3A%2F%2Ftwitter.com%
 2Fintent%2Ftweet%3Ftext%3DKV%2BAltenburger%2BLand%253A%2B%2526%25238222%2
 53BHebammen%2Bst%25C3%25A4rken%2B%2526%25238211%253B%2BGeburtshilfe%2Bsic
 hern%2521%2526%25238220%253B%26amp%3Burl%3Dhttps%3A%2F%2Fgruene-thueringe
 n.de%2Ftermine%2Fkv-altenburger-land-hebammen-staerken-geburtshilfe-siche
 rn-18aug21%2F%26amp%3Bvia%3D%22%20target%3D%22_blank%22%20rel%3D%22norefe
 rrer%20noopener%22%3E%3C%2Fa%3E%3Ca%20href%3D%22https%3A%2F%2Ftwitter.com
 %2Fintent%2Ftweet%3Ftext%3DKV%2BAltenburger%2BLand%253A%2B%2526%25238222%
 253BHebammen%2Bst%25C3%25A4rken%2B%2526%25238211%253B%2BGeburtshilfe%2Bsi
 chern%2521%2526%25238220%253B%26amp%3Burl%3Dhttps%3A%2F%2Fgruene-thuering
 en.de%2Ftermine%2Fkv-altenburger-land-hebammen-staerken-geburtshilfe-sich
 ern-18aug21%2F%26amp%3Bvia%3D%22%20target%3D%22_blank%22%20rel%3D%22noref
 errer%20noopener%22%3E%3C%2Fa%3E%3C%2Fp%3E%0A":Hebammen sind für die gut
 e Versorgung und Begleitung von Familien essenziell! Doch in Thüringen g
 ibt es immer weniger\, mancherorts sind fast keine freien Hebammen mehr z
 u finden. Gerade im ländlichen Raum wird die Versorgung immer knapper. I
 n Thüringen schließen zudem immer mehr Geburtsstationen\, wie kürzlich
  in Hildburghausen\, Schmalkalden\, Schleiz oder Greiz. In den noch beste
 henden Kreißsälen kommt es immer öfter zu Unterversorgung und viel zu 
 wenige Hebammen müssen viel zu viele Gebärende betreuen. Aufgrund der h
 ohen Arbeitsbelastung\, insbesondere in Kliniken\, denkt jede vierte Heba
 mme darüber nach ihren Beruf aufzugeben. Das kann so nicht weitergehen!\
 n\nAm Mittwoch\, den 25. August 2021\, findet deshalb unsere Aktion „H
 ebammen stärken – Geburtshilfe sichern!“ in Schmalkalden statt\; und
  zwar um 10 Uhr auf dem Altmarkt. Mit dabei unter anderem Landessprecheri
 n Ann-Sophie Bohm und Grünen-MdL Madeleine Henfling.\n\nWir freuen uns
  auf euch!
CLASS:PUBLIC
DTSTART;TZID=Europe/Berlin:20210825T100000
DTEND;TZID=Europe/Berlin:20210825T113000
DTSTAMP:20260421T100644
END:VEVENT
END:VCALENDAR