BEGIN:VCALENDAR
VERSION:2.0
PRODID:gruene-thueringen.de
METHOD:PUBLISH
BEGIN:VTIMEZONE
TZID:Europe/Berlin
X-LIC-LOCATION:Europe/Berlin
BEGIN:DAYLIGHT
TZOFFSETFROM:+0100
TZOFFSETTO:+0200
TZNAME:CEST
DTSTART:19700329T020000
RRULE:FREQ=YEARLY;INTERVAL=1;BYDAY=-1SU;BYMONTH=3
END:DAYLIGHT
BEGIN:STANDARD
TZOFFSETFROM:+0200
TZOFFSETTO:+0100
TZNAME:CET
DTSTART:19701025T030000
RRULE:FREQ=YEARLY;INTERVAL=1;BYDAY=-1SU;BYMONTH=10
END:STANDARD
END:VTIMEZONE
BEGIN:VEVENT
UID:d82df943475d538a316dc54ab9d6a7c1@gruene-thueringen.de
URL;VALUE=URI:https://gruene-thueringen.de/termine/themenabend-wirtschaft
 -und-energiewende-kv-nordhausen/
LOCATION:Grünes Büro, Barfüßerstraße 28, Nordhausen
SUMMARY:Themenabend Wirtschaft und Energiewende KV Nordhausen
DESCRIPTION;ALTREP="data:text/html,%0A%3Cp%3E%3Cstrong%3E%F0%9F%8C%B1%20T
 hemenabend%3A%20Wirtschaft%20%26amp%3B%20Energiewende%3C%2Fstrong%3E%3C%2
 Fp%3E%0A%0A%0A%0A%3Cp%3EWie%20gelingt%20eine%20zukunftsf%C3%A4hige%20Wirt
 schaft%2C%20die%20Klima%2C%20Umwelt%20und%20Menschen%20im%20Blick%20beh%C
 3%A4lt%3F%3Cbr%3EWas%20bedeutet%20die%20Energiewende%20f%C3%BCr%20unsere%
 20Region%3F%3C%2Fp%3E%0A%0A%0A%0A%3Cp%3EDer%20Kreisverband%20B%C3%9CNDNIS
 %2090%2FDIE%20GR%C3%9CNEN%20Nordhausen%20l%C3%A4dt%20herzlich%20ein%20zum
 %20%3Cstrong%3EThemenabend%20%22Wirtschaft%20%26amp%3B%20Energiewende%22%
 3C%2Fstrong%3E.%3C%2Fp%3E%0A%0A%0A%0A%3Cp%3E%F0%9F%97%93%20%3Cstrong%3EDo
 nnerstag%2C%2017.%20April%202025%3C%2Fstrong%3E%3Cbr%3E%F0%9F%95%94%20%3C
 strong%3EBeginn%3A%2017%20Uhr%3C%2Fstrong%3E%3Cbr%3E%F0%9F%93%8D%20%3Cstr
 ong%3EGr%C3%BCnes%20B%C3%BCro%3C%2Fstrong%3E%2C%20Barf%C3%BC%C3%9Ferstra%
 C3%9Fe%2028%2C%2099734%20Nordhausen%3C%2Fp%3E%0A%0A%0A%0A%3Cp%3EDiskutier
 t%20mit%20uns%20%C3%BCber%20Chancen%2C%20Herausforderungen%20und%20konkre
 te%20L%C3%B6sungen%20f%C3%BCr%20Nordhausen%20und%20dar%C3%BCber%20hinaus.
 %20Alle%20Interessierten%20sind%20herzlich%20willkommen%21%3C%2Fp%3E%0A%0
 A%0A%0A%3Cp%3EWeitere%20Infos%20auf%20der%20Webseite%20des%20KV%20Nordhau
 sen%3C%2Fp%3E%0A":🌱 Themenabend: Wirtschaft & Energiewende\n\nWie geli
 ngt eine zukunftsfähige Wirtschaft\, die Klima\, Umwelt und Menschen im 
 Blick behält?Was bedeutet die Energiewende für unsere Region?\n\nDer Kr
 eisverband BÜNDNIS 90/DIE GRÜNEN Nordhausen lädt herzlich ein zum Them
 enabend "Wirtschaft & Energiewende".\n\n🗓 Donnerstag\, 17. April 2025
 🕔 Beginn: 17 Uhr📍 Grünes Büro\, Barfüßerstraße 28\, 99734 Nord
 hausen\n\nDiskutiert mit uns über Chancen\, Herausforderungen und konkre
 te Lösungen für Nordhausen und darüber hinaus. Alle Interessierten sin
 d herzlich willkommen!\n\nWeitere Infos auf der Webseite des KV Nordhause
 n
CLASS:PUBLIC
DTSTART;TZID=Europe/Berlin:20250417T170000
DTEND;TZID=Europe/Berlin:20250417T180000
DTSTAMP:20260420T102516
END:VEVENT
END:VCALENDAR