BEGIN:VCALENDAR
VERSION:2.0
PRODID:gruene-thueringen.de
METHOD:PUBLISH
BEGIN:VTIMEZONE
TZID:Europe/Berlin
X-LIC-LOCATION:Europe/Berlin
BEGIN:DAYLIGHT
TZOFFSETFROM:+0100
TZOFFSETTO:+0200
TZNAME:CEST
DTSTART:19700329T020000
RRULE:FREQ=YEARLY;INTERVAL=1;BYDAY=-1SU;BYMONTH=3
END:DAYLIGHT
BEGIN:STANDARD
TZOFFSETFROM:+0200
TZOFFSETTO:+0100
TZNAME:CET
DTSTART:19701025T030000
RRULE:FREQ=YEARLY;INTERVAL=1;BYDAY=-1SU;BYMONTH=10
END:STANDARD
END:VTIMEZONE
BEGIN:VEVENT
UID:f75b609630e81ed39a8c94a3f33e556c@gruene-thueringen.de
URL;VALUE=URI:https://gruene-thueringen.de/termine/wanderung-zum-sonnenau
 fgang-auf-den-brocken-am-23jun24/
LOCATION:
SUMMARY:Wanderung zum Sonnenaufgang auf den Brocken
DESCRIPTION;ALTREP="data:text/html,%0A%3Cp%3EAuch%20in%20diesem%20Jahr%20
 l%C3%A4dt%20der%20b%C3%BCndnisgr%C3%BCne%C2%A0%3Cstrong%3EKreisverband%20
 Nordhausen%3C%2Fstrong%3E%C2%A0zur%20traditionellen%C2%A0%3Cstrong%3EBroc
 kenwanderung%3C%2Fstrong%3E%C2%A0zur%20Sommersonnenwende%20ein.%20Der%20A
 ufstieg%20beginnt%20am%20%3Cstrong%3ESonntag%2C%20den%2023.%20Juni%202024
 %20um%203%20Uhr%3C%2Fstrong%3E%2C%20so%20dass%20der%20Gipfel%20des%20Broc
 kens%20zum%20Sonnenaufgang%20gegen%205%20Uhr%20erreicht%20wird.%20Treffpu
 nkt%20ist%20der%20Parkplatz%20Oderbr%C3%BCck%20Nord%20an%20der%20B4.%3C%2
 Fp%3E%0A%0A%0A%0A%3Cp%3EWenn%20du%20mit%20uns%20wandern%20und%20den%20Son
 nenaufgang%20auf%20dem%20Brocken%20erleben%20m%C3%B6chtest%2C%20dann%20me
 lde%20dich%20sehr%20gerne%20unter%20info%5Bat%5Dgruene-thueringen.de%20od
 er%20beim%C2%A0%3Ca%20href%3D%22https%3A%2F%2Fwww.gruene-nordhausen.de%2F
 start%2F%22%20target%3D%22_blank%22%20rel%3D%22noreferrer%20noopener%22%3
 EKV%20Nordhausen%3C%2Fa%3E%C2%A0an.%3C%2Fp%3E%0A%0A%0A%0A%3Cdiv%20style%3
 D%22height%3A25px%22%20aria-hidden%3D%22true%22%20class%3D%22wp-block-spa
 cer%22%3E%3C%2Fdiv%3E%0A%0A%0A%0A%3Ch2%20class%3D%22wp-block-heading%22%3
 EAblauf%3C%2Fh2%3E%0A%0A%0A%0A%3Cul%20class%3D%22wp-block-list%22%3E%0A%3
 Cli%3E%3Cstrong%3E1.45%20Uhr%3C%2Fstrong%3E%3A%20Start%20in%20Nordhausen%
 20am%20Parkplatz%20Parkallee%20%28Wendeschleife%20%2F%20Endhaltestelle%20
 der%20Stra%C3%9Fenbahn%20Linie%202%20%28f%C3%BCr%20die%20Nordh%C3%A4user%
 20und%20alle%2C%20die%20aus%20Richtung%20S%C3%BCden%20anreisen%29%20%28Es
 %20k%C3%B6nnen%20Fahrgemeinschaften%20gebildet%20werden.%29%3C%2Fli%3E%0A
 %0A%0A%0A%3Cli%3E%3Cstrong%3E3%20Uhr%3C%2Fstrong%3E%3A%20Treffpunkt%2FSta
 rt%20am%20Parkplatz%20%E2%80%9EOderbr%C3%BCck%E2%80%9C%20an%20der%20B4%20
 von%20dort%20sind%20es%20dann%20zu%20Fu%C3%9F%20ca.%208km%20zum%20Brocken
 .%3C%2Fli%3E%0A%0A%0A%0A%3Cli%3E%3Cstrong%3E5%20Uhr%3C%2Fstrong%3E%3A%20S
 onnenaufgang%20auf%20dem%20Brocken%20%2F%20Anschlie%C3%9Fend%20gemeinsame
 s%20Picknick%3C%2Fli%3E%0A%0A%0A%0A%3Cli%3EAuf%20dem%20R%C3%BCckweg%20f%C
 3%BChrt%20der%20Weg%20vom%20%E2%80%9EDreieckigen%20Pfahl%E2%80%9C%20aus%2
 0%C3%BCber%20die%20Aussichtsplattform%20%E2%80%9EBodebruch%E2%80%9C.%20%2
 8etwas%20anspruchsvollere%20Wegstrecke%2C%20aber%20sehenswert%21%29%3C%2F
 li%3E%0A%0A%0A%0A%3Cli%3E%3Cstrong%3Eca.%208%20Uhr%3C%2Fstrong%3E%3A%20An
 kunft%20am%20Parkplatz%3C%2Fli%3E%0A%3C%2Ful%3E%0A%0A%0A%0A%3Cdiv%20style
 %3D%22height%3A25px%22%20aria-hidden%3D%22true%22%20class%3D%22wp-block-s
 pacer%22%3E%3C%2Fdiv%3E%0A%0A%0A%0A%3Ch2%20class%3D%22wp-block-heading%22
 %3EHinweis%3C%2Fh2%3E%0A%0A%0A%0A%3Cp%3EEin%20paar%20wichtige%20Hinweise%
 3A%20Die%20gesamte%20Strecke%20ist%20ca.%2016km%20lang.%20Der%20Weg%20ist
 %20f%C3%BCr%20ge%C3%BCbte%20Menschen%20machbar.%20Trittsicherheit%20und%2
 0geeignete%20Schuhe%20vorausgesetzt.%20Die%20Anfahrt%20nachts%20mit%20dem
 %20Auto%20hat%20mit%20besonderer%20Vorsicht%20zu%20erfolgen.%20Wildwechse
 l%20ist%20%C3%BCberall%20zu%20dieser%20fr%C3%BChen%20Uhrzeit%20sehr%20wah
 rscheinlich.%20Das%20Wetter%20auf%20dem%20Brocken%20ist%20grunds%C3%A4tzl
 ich%20k%C3%A4lter%20und%20windiger%2C%20als%20gedacht.%20Feste%20Schuhe%2
 C%20warme%20winddichte%20Regenkleidung%2C%20etc.%20sind%20wichtig.%20Die%
 20R%C3%BCckfahrt%20hat%20ebenfalls%20mit%20besonderer%20Aufmerksamkeit%20
 zu%20erfolgen.%20Der%20fehlende%20Nachtschlaf%20ist%20zu%20beachten.%20%2
 8Ruhepausen%20einplanen%21%29%20%3C%2Fp%3E%0A":Auch in diesem Jahr lädt 
 der bündnisgrüne Kreisverband Nordhausen zur traditionellen Brockenw
 anderung zur Sommersonnenwende ein. Der Aufstieg beginnt am Sonntag\, de
 n 23. Juni 2024 um 3 Uhr\, so dass der Gipfel des Brockens zum Sonnenaufg
 ang gegen 5 Uhr erreicht wird. Treffpunkt ist der Parkplatz Oderbrück No
 rd an der B4.\n\nWenn du mit uns wandern und den Sonnenaufgang auf dem Br
 ocken erleben möchtest\, dann melde dich sehr gerne unter info[at]gruene
 -thueringen.de oder beim KV Nordhausen an.\n\nAblauf\n\n1.45 Uhr: Start
  in Nordhausen am Parkplatz Parkallee (Wendeschleife / Endhaltestelle der
  Straßenbahn Linie 2 (für die Nordhäuser und alle\, die aus Richtung S
 üden anreisen) (Es können Fahrgemeinschaften gebildet werden.)\n\n3 Uhr
 : Treffpunkt/Start am Parkplatz „Oderbrück“ an der B4 von dort sind 
 es dann zu Fuß ca. 8km zum Brocken.\n\n5 Uhr: Sonnenaufgang auf dem Broc
 ken / Anschließend gemeinsames Picknick\n\nAuf dem Rückweg führt der W
 eg vom „Dreieckigen Pfahl“ aus über die Aussichtsplattform „Bodebr
 uch“. (etwas anspruchsvollere Wegstrecke\, aber sehenswert!)\n\nca. 8 U
 hr: Ankunft am Parkplatz\n\nHinweis\n\nEin paar wichtige Hinweise: Die ge
 samte Strecke ist ca. 16km lang. Der Weg ist für geübte Menschen machba
 r. Trittsicherheit und geeignete Schuhe vorausgesetzt. Die Anfahrt nachts
  mit dem Auto hat mit besonderer Vorsicht zu erfolgen. Wildwechsel ist ü
 berall zu dieser frühen Uhrzeit sehr wahrscheinlich. Das Wetter auf dem 
 Brocken ist grundsätzlich kälter und windiger\, als gedacht. Feste Schu
 he\, warme winddichte Regenkleidung\, etc. sind wichtig. Die Rückfahrt h
 at ebenfalls mit besonderer Aufmerksamkeit zu erfolgen. Der fehlende Nach
 tschlaf ist zu beachten. (Ruhepausen einplanen!)
CLASS:PUBLIC
DTSTART;TZID=Europe/Berlin:20240623T030000
DTEND;TZID=Europe/Berlin:20240623T080000
DTSTAMP:20260423T155723
END:VEVENT
END:VCALENDAR