BEGIN:VCALENDAR
VERSION:2.0
PRODID:gruene-thueringen.de
METHOD:PUBLISH
BEGIN:VTIMEZONE
TZID:Europe/Berlin
X-LIC-LOCATION:Europe/Berlin
BEGIN:DAYLIGHT
TZOFFSETFROM:+0100
TZOFFSETTO:+0200
TZNAME:CEST
DTSTART:19700329T020000
RRULE:FREQ=YEARLY;INTERVAL=1;BYDAY=-1SU;BYMONTH=3
END:DAYLIGHT
BEGIN:STANDARD
TZOFFSETFROM:+0200
TZOFFSETTO:+0100
TZNAME:CET
DTSTART:19701025T030000
RRULE:FREQ=YEARLY;INTERVAL=1;BYDAY=-1SU;BYMONTH=10
END:STANDARD
END:VTIMEZONE
BEGIN:VEVENT
UID:b6d6bcd29b7f49a2fb35a6912380144e@gruene-thueringen.de
URL;VALUE=URI:https://gruene-thueringen.de/termine/wk-190-aufstellungsver
 sammlung-am-06dec24/
LOCATION:Stadtteilzentrum LISA, Werner-Seelenbinder-Str., Jena
SUMMARY:Wahlkreis 190: Aufstellungsversammlung
DESCRIPTION;ALTREP="data:text/html,%0A%3Cp%3EDie%20%3Cstrong%3EKreisverb%
 C3%A4nde%20Jena%2C%20S%C3%B6mmerda%20und%20Weimarer%20Land%20I%3C%2Fstron
 g%3E%20im%20Wahlkreis%20190%20von%20%3Cstrong%3EB%C3%9CNDNIS%2090%2FDIE%2
 0GR%C3%9CNEN%3C%2Fstrong%3E%20Landesverband%20Th%C3%BCringen%20laden%20am
 %20%3Cstrong%3E06.%20Dezember%202024%3C%2Fstrong%3E%20um%20%3Cstrong%3E17
 %3A00%3C%2Fstrong%3E%20zur%20Aufstellungsversammlung%20ein.%3C%2Fp%3E%0A%
 0A%0A%0A%3Cp%3E%3C%2Fp%3E%0A%0A%0A%0A%3Cp%3E%3C%2Fp%3E%0A":Die Kreisverb
 ände Jena\, Sömmerda und Weimarer Land I im Wahlkreis 190 von BÜNDNIS 
 90/DIE GRÜNEN Landesverband Thüringen laden am 06. Dezember 2024 um 17:
 00 zur Aufstellungsversammlung ein.
CLASS:PUBLIC
DTSTART;TZID=Europe/Berlin:20241206T170000
DTEND;TZID=Europe/Berlin:20241206T180000
DTSTAMP:20260420T101414
END:VEVENT
END:VCALENDAR